BEGIN:VCALENDAR
VERSION:2.0
PRODID:-//Amigos Nau Gran - ECPv6.15.20//NONSGML v1.0//EN
CALSCALE:GREGORIAN
METHOD:PUBLISH
X-WR-CALNAME:Amigos Nau Gran
X-ORIGINAL-URL:https://www.amigosnaugran.org
X-WR-CALDESC:Eventos para Amigos Nau Gran
REFRESH-INTERVAL;VALUE=DURATION:PT1H
X-Robots-Tag:noindex
X-PUBLISHED-TTL:PT1H
BEGIN:VTIMEZONE
TZID:Europe/Madrid
BEGIN:DAYLIGHT
TZOFFSETFROM:+0100
TZOFFSETTO:+0200
TZNAME:CEST
DTSTART:20250330T010000
END:DAYLIGHT
BEGIN:STANDARD
TZOFFSETFROM:+0200
TZOFFSETTO:+0100
TZNAME:CET
DTSTART:20251026T010000
END:STANDARD
BEGIN:DAYLIGHT
TZOFFSETFROM:+0100
TZOFFSETTO:+0200
TZNAME:CEST
DTSTART:20260329T010000
END:DAYLIGHT
BEGIN:STANDARD
TZOFFSETFROM:+0200
TZOFFSETTO:+0100
TZNAME:CET
DTSTART:20261025T010000
END:STANDARD
BEGIN:DAYLIGHT
TZOFFSETFROM:+0100
TZOFFSETTO:+0200
TZNAME:CEST
DTSTART:20270328T010000
END:DAYLIGHT
BEGIN:STANDARD
TZOFFSETFROM:+0200
TZOFFSETTO:+0100
TZNAME:CET
DTSTART:20271031T010000
END:STANDARD
END:VTIMEZONE
BEGIN:VEVENT
DTSTART;TZID=Europe/Madrid:20260415T113000
DTEND;TZID=Europe/Madrid:20260415T150000
DTSTAMP:20260424T210418
CREATED:20260328T201432Z
LAST-MODIFIED:20260328T214439Z
UID:26211-1776252600-1776265200@www.amigosnaugran.org
SUMMARY:MUSEO DE BELLAS ARTES: EL BARROC\, UNA CRUÏLLA DE LA POLÍTICA\, LA RELIGIOSITAT I LA CULTURA
DESCRIPTION:Lugar: Museo de Bellas Artes \nGuía: Emili Gascón \nEstar 15 minutos antes
URL:https://www.amigosnaugran.org/evento/museo-de-bellas-artes-el-barroc-una-cruilla-de-la-politica-la-religiositat-i-la-cultura-2/
LOCATION:Museo de Bellas Artes\, C/ San Pío V\, 9 - CP 46010\, València\, València\, 46010\, Spain
CATEGORIES:Visita
ATTACH;FMTTYPE=image/jpeg:https://www.amigosnaugran.org/wp-content/uploads/2019/01/museo-san-pio-v.jpg
ORGANIZER;CN="Amigos de la Nau Gran":MAILTO:info@amigosnaugran.org
END:VEVENT
END:VCALENDAR