BEGIN:VCALENDAR
VERSION:2.0
PRODID:-//Amigos Nau Gran - ECPv6.15.20//NONSGML v1.0//EN
CALSCALE:GREGORIAN
METHOD:PUBLISH
X-ORIGINAL-URL:https://www.amigosnaugran.org
X-WR-CALDESC:Eventos para Amigos Nau Gran
REFRESH-INTERVAL;VALUE=DURATION:PT1H
X-Robots-Tag:noindex
X-PUBLISHED-TTL:PT1H
BEGIN:VTIMEZONE
TZID:Europe/Madrid
BEGIN:DAYLIGHT
TZOFFSETFROM:+0100
TZOFFSETTO:+0200
TZNAME:CEST
DTSTART:20250330T010000
END:DAYLIGHT
BEGIN:STANDARD
TZOFFSETFROM:+0200
TZOFFSETTO:+0100
TZNAME:CET
DTSTART:20251026T010000
END:STANDARD
BEGIN:DAYLIGHT
TZOFFSETFROM:+0100
TZOFFSETTO:+0200
TZNAME:CEST
DTSTART:20260329T010000
END:DAYLIGHT
BEGIN:STANDARD
TZOFFSETFROM:+0200
TZOFFSETTO:+0100
TZNAME:CET
DTSTART:20261025T010000
END:STANDARD
BEGIN:DAYLIGHT
TZOFFSETFROM:+0100
TZOFFSETTO:+0200
TZNAME:CEST
DTSTART:20270328T010000
END:DAYLIGHT
BEGIN:STANDARD
TZOFFSETFROM:+0200
TZOFFSETTO:+0100
TZNAME:CET
DTSTART:20271031T010000
END:STANDARD
END:VTIMEZONE
BEGIN:VEVENT
DTSTART;TZID=Europe/Madrid:20260211T113000
DTEND;TZID=Europe/Madrid:20260211T130000
DTSTAMP:20260424T230147
CREATED:20260124T173044Z
LAST-MODIFIED:20260124T191630Z
UID:22938-1770809400-1770814800@www.amigosnaugran.org
SUMMARY:MUSEO DE BELLAS ARTES: EL SANT GRIAL I LA MÍSTICA DE JOAN DE JOANES (EN VALENCIÀ)
DESCRIPTION:Fecha: miércoles 11 de febrero \nHorario: De 11:30 a 13:00 h \nLugar: Museo de Bellas Artes\nEstar 15 minutos antes \nGuía: Emili Gascón
URL:https://www.amigosnaugran.org/evento/museo-de-bellas-artes-el-sant-grial-i-la-mistica-de-joan-de-joanes-en-valencia/
LOCATION:Museo de Bellas Artes\, C/ San Pío V\, 9 - CP 46010\, València\, València\, 46010\, Spain
CATEGORIES:Visita
ATTACH;FMTTYPE=image/webp:https://www.amigosnaugran.org/wp-content/uploads/2025/09/Col·legi_de_Sant_Pius_V_museu_de_Belles_Arts_de_Valencia.webp
ORGANIZER;CN="Amigos de la Nau Gran":MAILTO:info@amigosnaugran.org
END:VEVENT
END:VCALENDAR