BEGIN:VCALENDAR
VERSION:2.0
PRODID:-//Amigos Nau Gran - ECPv6.15.20//NONSGML v1.0//EN
CALSCALE:GREGORIAN
METHOD:PUBLISH
X-WR-CALNAME:Amigos Nau Gran
X-ORIGINAL-URL:https://www.amigosnaugran.org
X-WR-CALDESC:Eventos para Amigos Nau Gran
REFRESH-INTERVAL;VALUE=DURATION:PT1H
X-Robots-Tag:noindex
X-PUBLISHED-TTL:PT1H
BEGIN:VTIMEZONE
TZID:Europe/Madrid
BEGIN:DAYLIGHT
TZOFFSETFROM:+0100
TZOFFSETTO:+0200
TZNAME:CEST
DTSTART:20240331T010000
END:DAYLIGHT
BEGIN:STANDARD
TZOFFSETFROM:+0200
TZOFFSETTO:+0100
TZNAME:CET
DTSTART:20241027T010000
END:STANDARD
BEGIN:DAYLIGHT
TZOFFSETFROM:+0100
TZOFFSETTO:+0200
TZNAME:CEST
DTSTART:20250330T010000
END:DAYLIGHT
BEGIN:STANDARD
TZOFFSETFROM:+0200
TZOFFSETTO:+0100
TZNAME:CET
DTSTART:20251026T010000
END:STANDARD
BEGIN:DAYLIGHT
TZOFFSETFROM:+0100
TZOFFSETTO:+0200
TZNAME:CEST
DTSTART:20260329T010000
END:DAYLIGHT
BEGIN:STANDARD
TZOFFSETFROM:+0200
TZOFFSETTO:+0100
TZNAME:CET
DTSTART:20261025T010000
END:STANDARD
END:VTIMEZONE
BEGIN:VEVENT
DTSTART;TZID=Europe/Madrid:20251030T093000
DTEND;TZID=Europe/Madrid:20251030T190000
DTSTAMP:20260425T014447
CREATED:20250924T142649Z
LAST-MODIFIED:20250924T164922Z
UID:20132-1761816600-1761850800@www.amigosnaugran.org
SUMMARY:Requena.- Museo del vino y de la vida rural de Sisternas/ Museu del vi i de la vida rural de Sisternas
DESCRIPTION:Eixida en bus: Facultad Geografía e Historia. \nGuía acompañante durante toda la actividad.
URL:https://www.amigosnaugran.org/evento/requena-museo-del-vino-y-de-la-vida-rural-de-sisternas-museu-del-vi-i-de-la-vida-rural-de-sisternas/
LOCATION:Facultad de Geografía e Historia\, Av. de Blasco Ibáñez\, 28\, 46010 València\, València\, 46010\, Spain
CATEGORIES:Visita
ATTACH;FMTTYPE=image/webp:https://www.amigosnaugran.org/wp-content/uploads/2025/09/Facultat_de_Geografia-e-Historia.webp
END:VEVENT
END:VCALENDAR