BEGIN:VCALENDAR
VERSION:2.0
PRODID:-//Amigos Nau Gran - ECPv6.15.20//NONSGML v1.0//EN
CALSCALE:GREGORIAN
METHOD:PUBLISH
X-ORIGINAL-URL:https://www.amigosnaugran.org
X-WR-CALDESC:Eventos para Amigos Nau Gran
REFRESH-INTERVAL;VALUE=DURATION:PT1H
X-Robots-Tag:noindex
X-PUBLISHED-TTL:PT1H
BEGIN:VTIMEZONE
TZID:Europe/Madrid
BEGIN:DAYLIGHT
TZOFFSETFROM:+0100
TZOFFSETTO:+0200
TZNAME:CEST
DTSTART:20250330T010000
END:DAYLIGHT
BEGIN:STANDARD
TZOFFSETFROM:+0200
TZOFFSETTO:+0100
TZNAME:CET
DTSTART:20251026T010000
END:STANDARD
BEGIN:DAYLIGHT
TZOFFSETFROM:+0100
TZOFFSETTO:+0200
TZNAME:CEST
DTSTART:20260329T010000
END:DAYLIGHT
BEGIN:STANDARD
TZOFFSETFROM:+0200
TZOFFSETTO:+0100
TZNAME:CET
DTSTART:20261025T010000
END:STANDARD
BEGIN:DAYLIGHT
TZOFFSETFROM:+0100
TZOFFSETTO:+0200
TZNAME:CEST
DTSTART:20270328T010000
END:DAYLIGHT
BEGIN:STANDARD
TZOFFSETFROM:+0200
TZOFFSETTO:+0100
TZNAME:CET
DTSTART:20271031T010000
END:STANDARD
END:VTIMEZONE
BEGIN:VEVENT
DTSTART;TZID=Europe/Madrid:20260418T080000
DTEND;TZID=Europe/Madrid:20260418T170000
DTSTAMP:20260425T014055
CREATED:20260328T204545Z
LAST-MODIFIED:20260328T214710Z
UID:26236-1776499200-1776531600@www.amigosnaugran.org
SUMMARY:SENDERISMO: DENIA: COVA DEL CAMELL\, COVA DE L’AIGUA I ERMITA PARE PERE
DESCRIPTION:Guía: Josep Font \nEstar 15 minutos antes
URL:https://www.amigosnaugran.org/evento/senderismo-denia-cova-del-camell-cova-de-laigua-i-ermita-pare-pere/
LOCATION:Facultad de Geografía e Historia\, Av. de Blasco Ibáñez\, 28\, 46010 València\, València\, 46010\, Spain
CATEGORIES:Senderismo
ATTACH;FMTTYPE=image/webp:https://www.amigosnaugran.org/wp-content/uploads/2025/09/Facultat_de_Geografia-e-Historia-1.webp
ORGANIZER;CN="Amigos de la Nau Gran":MAILTO:info@amigosnaugran.org
END:VEVENT
END:VCALENDAR