BEGIN:VCALENDAR
VERSION:2.0
PRODID:-//Amigos Nau Gran - ECPv6.15.20//NONSGML v1.0//EN
CALSCALE:GREGORIAN
METHOD:PUBLISH
X-ORIGINAL-URL:https://www.amigosnaugran.org
X-WR-CALDESC:Eventos para Amigos Nau Gran
REFRESH-INTERVAL;VALUE=DURATION:PT1H
X-Robots-Tag:noindex
X-PUBLISHED-TTL:PT1H
BEGIN:VTIMEZONE
TZID:Europe/Madrid
BEGIN:DAYLIGHT
TZOFFSETFROM:+0100
TZOFFSETTO:+0200
TZNAME:CEST
DTSTART:20240331T010000
END:DAYLIGHT
BEGIN:STANDARD
TZOFFSETFROM:+0200
TZOFFSETTO:+0100
TZNAME:CET
DTSTART:20241027T010000
END:STANDARD
BEGIN:DAYLIGHT
TZOFFSETFROM:+0100
TZOFFSETTO:+0200
TZNAME:CEST
DTSTART:20250330T010000
END:DAYLIGHT
BEGIN:STANDARD
TZOFFSETFROM:+0200
TZOFFSETTO:+0100
TZNAME:CET
DTSTART:20251026T010000
END:STANDARD
BEGIN:DAYLIGHT
TZOFFSETFROM:+0100
TZOFFSETTO:+0200
TZNAME:CEST
DTSTART:20260329T010000
END:DAYLIGHT
BEGIN:STANDARD
TZOFFSETFROM:+0200
TZOFFSETTO:+0100
TZNAME:CET
DTSTART:20261025T010000
END:STANDARD
END:VTIMEZONE
BEGIN:VEVENT
DTSTART;TZID=Europe/Madrid:20251218T090000
DTEND;TZID=Europe/Madrid:20251218T143000
DTSTAMP:20260425T012427
CREATED:20251123T182728Z
LAST-MODIFIED:20251124T004134Z
UID:21168-1766048400-1766068200@www.amigosnaugran.org
SUMMARY:PASEO L’HORTA NORD: LAS TRES ALQUERÍAS DEL PI
DESCRIPTION:IMAGEN: Alqueria Alta\, Camí de Godella  Autoría:  User 19Tarrestnom65\, CC BY-SA 4.0 via Wikimedia Commons \nPASEO L’HORTA NORD: LAS TRES ALQUERÍAS DEL PI /PASSEIG L’HORTA NORD: LES TRES ALQUERIES DEL PI \nHorario y salida: A las 9:00h en el punto de encuentro parada del 26 de la EMT (parada 281 Camino de Moncada – Alemany) camino de Moncada. Fin del paseo 14:30h. \n \nGuía: Jorge Oliete \nDistancia 15 km. Llevad agua\, almuerzo\, protección solar y calzado cómodo \n 
URL:https://www.amigosnaugran.org/evento/paseo-lhorta-nord-las-tres-alquerias-del-pi/
LOCATION:Privado: EMT (parada 281 Camino de Moncada – Alemany) camino de Moncada.\, Camino Moncada Alemany - Rascaña\, Valencia\, Valencia\, 46019\, Spain
CATEGORIES:Paseo Cultural / Passeig Cultural,Paseo por L'Horta Nord
ATTACH;FMTTYPE=image/webp:https://www.amigosnaugran.org/wp-content/uploads/2025/11/Alqueria_Alta_Cami_de_Godella_01.webp
ORGANIZER;CN="Amigos de la Nau Gran":MAILTO:info@amigosnaugran.org
END:VEVENT
END:VCALENDAR