BEGIN:VCALENDAR
VERSION:2.0
PRODID:-//Amigos Nau Gran - ECPv6.15.20//NONSGML v1.0//EN
CALSCALE:GREGORIAN
METHOD:PUBLISH
X-WR-CALNAME:Amigos Nau Gran
X-ORIGINAL-URL:https://www.amigosnaugran.org
X-WR-CALDESC:Eventos para Amigos Nau Gran
REFRESH-INTERVAL;VALUE=DURATION:PT1H
X-Robots-Tag:noindex
X-PUBLISHED-TTL:PT1H
BEGIN:VTIMEZONE
TZID:Europe/Madrid
BEGIN:DAYLIGHT
TZOFFSETFROM:+0100
TZOFFSETTO:+0200
TZNAME:CEST
DTSTART:20240331T010000
END:DAYLIGHT
BEGIN:STANDARD
TZOFFSETFROM:+0200
TZOFFSETTO:+0100
TZNAME:CET
DTSTART:20241027T010000
END:STANDARD
BEGIN:DAYLIGHT
TZOFFSETFROM:+0100
TZOFFSETTO:+0200
TZNAME:CEST
DTSTART:20250330T010000
END:DAYLIGHT
BEGIN:STANDARD
TZOFFSETFROM:+0200
TZOFFSETTO:+0100
TZNAME:CET
DTSTART:20251026T010000
END:STANDARD
BEGIN:DAYLIGHT
TZOFFSETFROM:+0100
TZOFFSETTO:+0200
TZNAME:CEST
DTSTART:20260329T010000
END:DAYLIGHT
BEGIN:STANDARD
TZOFFSETFROM:+0200
TZOFFSETTO:+0100
TZNAME:CET
DTSTART:20261025T010000
END:STANDARD
END:VTIMEZONE
BEGIN:VEVENT
DTSTART;TZID=Europe/Madrid:20251120T090000
DTEND;TZID=Europe/Madrid:20251120T140000
DTSTAMP:20260425T022519
CREATED:20251029T234254Z
LAST-MODIFIED:20251030T010727Z
UID:20725-1763629200-1763647200@www.amigosnaugran.org
SUMMARY:PASEO HORTA NORD: EL FEMATER
DESCRIPTION:IMAGEN: Enrique Íñiguez Rodríguez (Qoan)\, CC BY-SA 3.0\, via Wikimedia Commons \nHorario: A las 9:00h en el punto de encuentro situado en la rotonda San Juan XXIII junto al McDonal’s (bus 26 y 64. Fin del paseo 14:00h. \nGuía: Jorge Oliete \nComentario: Distancia 10km.Recorrido en llano por caminos accesibles.
URL:https://www.amigosnaugran.org/evento/paseo-horta-nord-el-femater/
LOCATION:Parada 1824 Bus 64 \, Benicalap – Joan XXIII 46025 Valencia\, Parada Bus 64 1824\, Benicalap - Joan XXIII 46025 Valencia\, Valencia\, Valencia\, 46025\, Spain
CATEGORIES:Paseo por L'Horta Nord
ATTACH;FMTTYPE=image/webp:https://www.amigosnaugran.org/wp-content/uploads/2025/10/Carpesa_des_del_cami_de_Borboto.webp
ORGANIZER;CN="Amigos de la Nau Gran":MAILTO:info@amigosnaugran.org
END:VEVENT
END:VCALENDAR