BEGIN:VCALENDAR
VERSION:2.0
PRODID:-//Amigos Nau Gran - ECPv6.15.20//NONSGML v1.0//EN
CALSCALE:GREGORIAN
METHOD:PUBLISH
X-WR-CALNAME:Amigos Nau Gran
X-ORIGINAL-URL:https://www.amigosnaugran.org
X-WR-CALDESC:Eventos para Amigos Nau Gran
REFRESH-INTERVAL;VALUE=DURATION:PT1H
X-Robots-Tag:noindex
X-PUBLISHED-TTL:PT1H
BEGIN:VTIMEZONE
TZID:Europe/Madrid
BEGIN:DAYLIGHT
TZOFFSETFROM:+0100
TZOFFSETTO:+0200
TZNAME:CEST
DTSTART:20250330T010000
END:DAYLIGHT
BEGIN:STANDARD
TZOFFSETFROM:+0200
TZOFFSETTO:+0100
TZNAME:CET
DTSTART:20251026T010000
END:STANDARD
BEGIN:DAYLIGHT
TZOFFSETFROM:+0100
TZOFFSETTO:+0200
TZNAME:CEST
DTSTART:20260329T010000
END:DAYLIGHT
BEGIN:STANDARD
TZOFFSETFROM:+0200
TZOFFSETTO:+0100
TZNAME:CET
DTSTART:20261025T010000
END:STANDARD
BEGIN:DAYLIGHT
TZOFFSETFROM:+0100
TZOFFSETTO:+0200
TZNAME:CEST
DTSTART:20270328T010000
END:DAYLIGHT
BEGIN:STANDARD
TZOFFSETFROM:+0200
TZOFFSETTO:+0100
TZNAME:CET
DTSTART:20271031T010000
END:STANDARD
END:VTIMEZONE
BEGIN:VEVENT
DTSTART;TZID=Europe/Madrid:20260305T110000
DTEND;TZID=Europe/Madrid:20260305T130000
DTSTAMP:20260425T021904
CREATED:20260223T210646Z
LAST-MODIFIED:20260224T000802Z
UID:23324-1772708400-1772715600@www.amigosnaugran.org
SUMMARY:PASEO POR LA CIUDAD: ANIMALES INANIMADOS
DESCRIPTION:PASEO POR LA CIUDAD: ANIMALES INANIMADOS / PASSEIG PER LA CIUTAT: ANIMALS INANIMATS \nGuía: Margarita Belinchón \nLugar: Puerta de la Mar. Esquina c/ Colón con c/ Navarro Reverter \nEstar 15 minutos antes
URL:https://www.amigosnaugran.org/evento/paseo-por-la-ciudad-animales-inanimados/
LOCATION:Porta de la Mar\, Plaça de la Porta de la Mar\, sn\, 46003 València\, Valencia\, València\, València\, 46003\, España
CATEGORIES:Paseo por la Ciudad
ATTACH;FMTTYPE=image/webp:https://www.amigosnaugran.org/wp-content/uploads/2025/11/Valencia_Porta_del_Mar.webp
ORGANIZER;CN="Amigos de la Nau Gran":MAILTO:info@amigosnaugran.org
END:VEVENT
BEGIN:VEVENT
DTSTART;TZID=Europe/Madrid:20260310T093000
DTEND;TZID=Europe/Madrid:20260310T120000
DTSTAMP:20260425T021904
CREATED:20260223T212532Z
LAST-MODIFIED:20260224T001129Z
UID:23335-1773135000-1773144000@www.amigosnaugran.org
SUMMARY:PASEO POR LA CIUDAD: BARRIO DEL CABAÑAL
DESCRIPTION:Parada tranvía Platja Les Arenes (calle Eugenia Viñes)  – Imagen Google Maps \nPASSEIG PER LA CIUTAT: BARRI DEL CABANYAL \nGuía: Esther Vayá \nLugar: Parada tranvía Platja Les Arenes (calle Eugenia Viñes) \nEstar 15 minutos antes
URL:https://www.amigosnaugran.org/evento/paseo-por-la-ciudad-barrio-del-cabanal-2/
LOCATION:Parada tranvía Platja Les Arenes (calle Eugenia Viñes)\, FM9F+HP València\, Valencia\, Valencia\, 46011\, Spain
CATEGORIES:Paseo por la Ciudad
ATTACH;FMTTYPE=image/jpeg:https://www.amigosnaugran.org/wp-content/uploads/2026/02/tranvia-valencia-las-arenas.jpg
ORGANIZER;CN="Amigos de la Nau Gran":MAILTO:info@amigosnaugran.org
END:VEVENT
BEGIN:VEVENT
DTSTART;TZID=Europe/Madrid:20260325T093000
DTEND;TZID=Europe/Madrid:20260325T120000
DTSTAMP:20260425T021904
CREATED:20260223T214811Z
LAST-MODIFIED:20260224T001124Z
UID:23348-1774431000-1774440000@www.amigosnaugran.org
SUMMARY:PASEO POR LA CIUDAD: BARRIO DEL CABAÑAL
DESCRIPTION:Parada tranvía Platja Les Arenes (calle Eugenia Viñes)  – Imagen Google Maps \nPASSEIG PER LA CIUTAT: BARRI DEL CABANYAL \nGuía: Esther Vayá \nLugar: Parada tranvía Platja Les Arenes (calle Eugenia Viñes) \nEstar 15 minutos antes
URL:https://www.amigosnaugran.org/evento/paseo-por-la-ciudad-barrio-del-cabanal/
LOCATION:Parada tranvía Platja Les Arenes (calle Eugenia Viñes)\, FM9F+HP València\, Valencia\, Valencia\, 46011\, Spain
CATEGORIES:Paseo por la Ciudad
ATTACH;FMTTYPE=image/jpeg:https://www.amigosnaugran.org/wp-content/uploads/2026/02/tranvia-valencia-las-arenas.jpg
ORGANIZER;CN="Amigos de la Nau Gran":MAILTO:info@amigosnaugran.org
END:VEVENT
END:VCALENDAR