BEGIN:VCALENDAR
VERSION:2.0
PRODID:-//Amigos Nau Gran - ECPv6.15.20//NONSGML v1.0//EN
CALSCALE:GREGORIAN
METHOD:PUBLISH
X-WR-CALNAME:Amigos Nau Gran
X-ORIGINAL-URL:https://www.amigosnaugran.org
X-WR-CALDESC:Eventos para Amigos Nau Gran
REFRESH-INTERVAL;VALUE=DURATION:PT1H
X-Robots-Tag:noindex
X-PUBLISHED-TTL:PT1H
BEGIN:VTIMEZONE
TZID:Europe/Madrid
BEGIN:DAYLIGHT
TZOFFSETFROM:+0100
TZOFFSETTO:+0200
TZNAME:CEST
DTSTART:20250330T010000
END:DAYLIGHT
BEGIN:STANDARD
TZOFFSETFROM:+0200
TZOFFSETTO:+0100
TZNAME:CET
DTSTART:20251026T010000
END:STANDARD
BEGIN:DAYLIGHT
TZOFFSETFROM:+0100
TZOFFSETTO:+0200
TZNAME:CEST
DTSTART:20260329T010000
END:DAYLIGHT
BEGIN:STANDARD
TZOFFSETFROM:+0200
TZOFFSETTO:+0100
TZNAME:CET
DTSTART:20261025T010000
END:STANDARD
BEGIN:DAYLIGHT
TZOFFSETFROM:+0100
TZOFFSETTO:+0200
TZNAME:CEST
DTSTART:20270328T010000
END:DAYLIGHT
BEGIN:STANDARD
TZOFFSETFROM:+0200
TZOFFSETTO:+0100
TZNAME:CET
DTSTART:20271031T010000
END:STANDARD
END:VTIMEZONE
BEGIN:VEVENT
DTSTART;TZID=Europe/Madrid:20260415T170000
DTEND;TZID=Europe/Madrid:20260415T190000
DTSTAMP:20260424T210408
CREATED:20260328T200928Z
LAST-MODIFIED:20260328T214509Z
UID:26208-1776272400-1776279600@www.amigosnaugran.org
SUMMARY:CONFERENCIA: DE QUÉ HABLAMOS CUANDO HABLAMOS DE SOLIDARIDAD
DESCRIPTION:Lugar: Salón de Actos de la Facultad de Ciencias Sociales \nEntrada libre hasta completar aforo
URL:https://www.amigosnaugran.org/evento/conferencia-de-que-hablamos-cuando-hablamos-de-solidaridad/
LOCATION:Facultad de Ciencias sociales\, Av. dels Tarongers\, 4b\, 46022 València\, Valencia\, València\, València\, 46022\, España
CATEGORIES:Conferencias
ATTACH;FMTTYPE=image/jpeg:https://www.amigosnaugran.org/wp-content/uploads/2019/12/Facultad-de-ciencias-sociales-1.jpg
ORGANIZER;CN="Amigos de la Nau Gran":MAILTO:info@amigosnaugran.org
END:VEVENT
END:VCALENDAR