BEGIN:VCALENDAR
VERSION:2.0
PRODID:-//Amigos Nau Gran - ECPv6.15.20//NONSGML v1.0//EN
CALSCALE:GREGORIAN
METHOD:PUBLISH
X-ORIGINAL-URL:https://www.amigosnaugran.org
X-WR-CALDESC:Eventos para Amigos Nau Gran
REFRESH-INTERVAL;VALUE=DURATION:PT1H
X-Robots-Tag:noindex
X-PUBLISHED-TTL:PT1H
BEGIN:VTIMEZONE
TZID:Europe/Madrid
BEGIN:DAYLIGHT
TZOFFSETFROM:+0100
TZOFFSETTO:+0200
TZNAME:CEST
DTSTART:20250330T010000
END:DAYLIGHT
BEGIN:STANDARD
TZOFFSETFROM:+0200
TZOFFSETTO:+0100
TZNAME:CET
DTSTART:20251026T010000
END:STANDARD
BEGIN:DAYLIGHT
TZOFFSETFROM:+0100
TZOFFSETTO:+0200
TZNAME:CEST
DTSTART:20260329T010000
END:DAYLIGHT
BEGIN:STANDARD
TZOFFSETFROM:+0200
TZOFFSETTO:+0100
TZNAME:CET
DTSTART:20261025T010000
END:STANDARD
BEGIN:DAYLIGHT
TZOFFSETFROM:+0100
TZOFFSETTO:+0200
TZNAME:CEST
DTSTART:20270328T010000
END:DAYLIGHT
BEGIN:STANDARD
TZOFFSETFROM:+0200
TZOFFSETTO:+0100
TZNAME:CET
DTSTART:20271031T010000
END:STANDARD
END:VTIMEZONE
BEGIN:VEVENT
DTSTART;TZID=Europe/Madrid:20260204T150000
DTEND;TZID=Europe/Madrid:20260204T170000
DTSTAMP:20260424T223659
CREATED:20260124T161238Z
LAST-MODIFIED:20260124T191609Z
UID:22915-1770217200-1770224400@www.amigosnaugran.org
SUMMARY:CONFERENCIA: CÓMO NACE LA POESÍA
DESCRIPTION:CONFERENCIA: CÓMO NACE LA POESÍA / CONFERÈNCIA: COM NAIX LA POESIA \nFecha: miércoles 3 de febrero \nHorario: 15:00h. \nLugar: Facultad de Enfermería. Salón de Grados.\nEntrada libre hasta completar aforo. \nConferenciante: Tomás Moreno \n 
URL:https://www.amigosnaugran.org/evento/conferencia-como-nace-la-poesia/
LOCATION:Facultat d’Infermeria i Podologia UV\, C. de Menéndez y Pelayo\, 19\, Valencia\, Valencia\, 46010\, Spain
CATEGORIES:Conferencias
ATTACH;FMTTYPE=image/webp:https://www.amigosnaugran.org/wp-content/uploads/2026/01/facultad-enfermeria.webp
ORGANIZER;CN="Amigos de la Nau Gran":MAILTO:info@amigosnaugran.org
END:VEVENT
END:VCALENDAR