BEGIN:VCALENDAR
VERSION:2.0
PRODID:-//Amigos Nau Gran - ECPv6.15.20//NONSGML v1.0//EN
CALSCALE:GREGORIAN
METHOD:PUBLISH
X-WR-CALNAME:Amigos Nau Gran
X-ORIGINAL-URL:https://www.amigosnaugran.org
X-WR-CALDESC:Eventos para Amigos Nau Gran
REFRESH-INTERVAL;VALUE=DURATION:PT1H
X-Robots-Tag:noindex
X-PUBLISHED-TTL:PT1H
BEGIN:VTIMEZONE
TZID:Europe/Madrid
BEGIN:DAYLIGHT
TZOFFSETFROM:+0100
TZOFFSETTO:+0200
TZNAME:CEST
DTSTART:20240331T010000
END:DAYLIGHT
BEGIN:STANDARD
TZOFFSETFROM:+0200
TZOFFSETTO:+0100
TZNAME:CET
DTSTART:20241027T010000
END:STANDARD
BEGIN:DAYLIGHT
TZOFFSETFROM:+0100
TZOFFSETTO:+0200
TZNAME:CEST
DTSTART:20250330T010000
END:DAYLIGHT
BEGIN:STANDARD
TZOFFSETFROM:+0200
TZOFFSETTO:+0100
TZNAME:CET
DTSTART:20251026T010000
END:STANDARD
BEGIN:DAYLIGHT
TZOFFSETFROM:+0100
TZOFFSETTO:+0200
TZNAME:CEST
DTSTART:20260329T010000
END:DAYLIGHT
BEGIN:STANDARD
TZOFFSETFROM:+0200
TZOFFSETTO:+0100
TZNAME:CET
DTSTART:20261025T010000
END:STANDARD
END:VTIMEZONE
BEGIN:VEVENT
DTSTART;TZID=Europe/Madrid:20251104T173000
DTEND;TZID=Europe/Madrid:20251104T200000
DTSTAMP:20260425T014453
CREATED:20251029T155702Z
LAST-MODIFIED:20251029T202858Z
UID:20592-1762277400-1762286400@www.amigosnaugran.org
SUMMARY:CINECLUB: LA COMEDIA AMERICANA II: ERNST LUBITSCH
DESCRIPTION:Lugar: Salón de Actos del Colegio Mayor Rector Peset . Plaza de San Nicolás s/n \nResponsable: Adolfo Bellido \nDescripción: Película que se proyecta “Un ladrón en la alcoba” de 1932. Director Ernst Lubitsch. Duración 79 minutos.
URL:https://www.amigosnaugran.org/evento/cineclub-la-comedia-americana-ii-ernst-lubitsch-2/
LOCATION:Colegio Mayor Rector Peset\, Plaça del Forn de Sant Nicolau\, 4\, València\, València\, 46001
CATEGORIES:Cineclub
ATTACH;FMTTYPE=image/webp:https://www.amigosnaugran.org/wp-content/uploads/2025/09/COLEGIO-MAYOR-RECTOR-PESET.webp
ORGANIZER;CN="Amigos de la Nau Gran":MAILTO:info@amigosnaugran.org
END:VEVENT
BEGIN:VEVENT
DTSTART;TZID=Europe/Madrid:20251112T173000
DTEND;TZID=Europe/Madrid:20251112T200000
DTSTAMP:20260425T014453
CREATED:20251029T211402Z
LAST-MODIFIED:20251029T211741Z
UID:20680-1762968600-1762977600@www.amigosnaugran.org
SUMMARY:CICLO DE CINE: LA AMISTAD COMO TEMA DE CINE COMPARADO
DESCRIPTION:CICLO DE CINE: LA AMISTAD COMO TEMA DE CINE COMPARADO / CICLE DE CINEMA: L’AMISTAT COM A TEMA DE CINEMA COMPARAT \nLugar: Salón de Actos del Colegio Mayor Rector Peset. Plaza de San Nicolás s/n \nResponsable: Vicente León \nComentario: Película que se proyecta “Sin novedad en el frente” de 1930. Director Lewis Milestone. Duración 130 minutos.
URL:https://www.amigosnaugran.org/evento/ciclo-de-cine-la-amistad-como-tema-de-cine-comparado/
LOCATION:Colegio Mayor Rector Peset\, Plaça del Forn de Sant Nicolau\, 4\, València\, València\, 46001
CATEGORIES:Cineclub
ATTACH;FMTTYPE=image/webp:https://www.amigosnaugran.org/wp-content/uploads/2025/09/COLEGIO-MAYOR-RECTOR-PESET.webp
ORGANIZER;CN="Amigos de la Nau Gran":MAILTO:info@amigosnaugran.org
END:VEVENT
END:VCALENDAR