BEGIN:VCALENDAR
VERSION:2.0
PRODID:-//Amigos Nau Gran - ECPv6.15.20//NONSGML v1.0//EN
CALSCALE:GREGORIAN
METHOD:PUBLISH
X-WR-CALNAME:Amigos Nau Gran
X-ORIGINAL-URL:https://www.amigosnaugran.org
X-WR-CALDESC:Eventos para Amigos Nau Gran
REFRESH-INTERVAL;VALUE=DURATION:PT1H
X-Robots-Tag:noindex
X-PUBLISHED-TTL:PT1H
BEGIN:VTIMEZONE
TZID:Europe/Madrid
BEGIN:DAYLIGHT
TZOFFSETFROM:+0100
TZOFFSETTO:+0200
TZNAME:CEST
DTSTART:20240331T010000
END:DAYLIGHT
BEGIN:STANDARD
TZOFFSETFROM:+0200
TZOFFSETTO:+0100
TZNAME:CET
DTSTART:20241027T010000
END:STANDARD
BEGIN:DAYLIGHT
TZOFFSETFROM:+0100
TZOFFSETTO:+0200
TZNAME:CEST
DTSTART:20250330T010000
END:DAYLIGHT
BEGIN:STANDARD
TZOFFSETFROM:+0200
TZOFFSETTO:+0100
TZNAME:CET
DTSTART:20251026T010000
END:STANDARD
BEGIN:DAYLIGHT
TZOFFSETFROM:+0100
TZOFFSETTO:+0200
TZNAME:CEST
DTSTART:20260329T010000
END:DAYLIGHT
BEGIN:STANDARD
TZOFFSETFROM:+0200
TZOFFSETTO:+0100
TZNAME:CET
DTSTART:20261025T010000
END:STANDARD
END:VTIMEZONE
BEGIN:VEVENT
DTSTART;TZID=Europe/Madrid:20251107T173000
DTEND;TZID=Europe/Madrid:20251107T200000
DTSTAMP:20260425T000448
CREATED:20251029T192228Z
LAST-MODIFIED:20251029T201950Z
UID:20607-1762536600-1762545600@www.amigosnaugran.org
SUMMARY:CICLE DE CINEMA DE DONES: NOUS REPTES DE LES DONES
DESCRIPTION:CICLO DE CINE DE MUJERES/ CICLE DE CINEMA DE DONES: NOUS REPTES DE LES DONES \nLugar: Salón de Actos del Colegio Mayor Rector Peset. Plaza de San Nicolás s/n \nPresentación y Debate: Asunción Martorell \nComentario: Película que se proyecta “Alcarràs” de 2022. Directora Carla Simón. Duración 120 minutos. \n 
URL:https://www.amigosnaugran.org/evento/cicle-de-cinema-de-dones-nous-reptes-de-les-dones/
LOCATION:Colegio Mayor Rector Peset\, Plaça del Forn de Sant Nicolau\, 4\, València\, València\, 46001
CATEGORIES:Ciclo cine Mujeres
ATTACH;FMTTYPE=image/webp:https://www.amigosnaugran.org/wp-content/uploads/2025/09/COLEGIO-MAYOR-RECTOR-PESET.webp
ORGANIZER;CN="Amigos de la Nau Gran":MAILTO:info@amigosnaugran.org
END:VEVENT
END:VCALENDAR