BEGIN:VCALENDAR
VERSION:2.0
PRODID:-//Amigos Nau Gran - ECPv6.15.20//NONSGML v1.0//EN
CALSCALE:GREGORIAN
METHOD:PUBLISH
X-ORIGINAL-URL:https://www.amigosnaugran.org
X-WR-CALDESC:Eventos para Amigos Nau Gran
REFRESH-INTERVAL;VALUE=DURATION:PT1H
X-Robots-Tag:noindex
X-PUBLISHED-TTL:PT1H
BEGIN:VTIMEZONE
TZID:Europe/Madrid
BEGIN:DAYLIGHT
TZOFFSETFROM:+0100
TZOFFSETTO:+0200
TZNAME:CEST
DTSTART:20240331T010000
END:DAYLIGHT
BEGIN:STANDARD
TZOFFSETFROM:+0200
TZOFFSETTO:+0100
TZNAME:CET
DTSTART:20241027T010000
END:STANDARD
BEGIN:DAYLIGHT
TZOFFSETFROM:+0100
TZOFFSETTO:+0200
TZNAME:CEST
DTSTART:20250330T010000
END:DAYLIGHT
BEGIN:STANDARD
TZOFFSETFROM:+0200
TZOFFSETTO:+0100
TZNAME:CET
DTSTART:20251026T010000
END:STANDARD
BEGIN:DAYLIGHT
TZOFFSETFROM:+0100
TZOFFSETTO:+0200
TZNAME:CEST
DTSTART:20260329T010000
END:DAYLIGHT
BEGIN:STANDARD
TZOFFSETFROM:+0200
TZOFFSETTO:+0100
TZNAME:CET
DTSTART:20261025T010000
END:STANDARD
END:VTIMEZONE
BEGIN:VEVENT
DTSTART;TZID=Europe/Madrid:20251024T173000
DTEND;TZID=Europe/Madrid:20251024T190000
DTSTAMP:20260425T004655
CREATED:20250924T130753Z
LAST-MODIFIED:20250924T164916Z
UID:20123-1761327000-1761332400@www.amigosnaugran.org
SUMMARY:Ciclo de cine de mujeres: Nuevos retos de las mujeres / Cicle de cinema de dones: Nous reptes de les dones
DESCRIPTION:Colegio Mayor Rector Peset. Pz. Del Forn de Sant Nicolau\, 4 \n Presentación y Debate: Manuela Estellés \nPelícula: Persépolis (2007) Dir. Marjane Satrapi y Vincent Paronnaud. Francia. 95 min
URL:https://www.amigosnaugran.org/evento/ciclo-de-cine-de-mujeres-nuevos-retos-de-las-mujeres-cicle-de-cinema-de-dones-nous-reptes-de-les-dones/
LOCATION:Colegio Mayor Rector Peset\, Plaça del Forn de Sant Nicolau\, 4\, València\, València\, 46001
CATEGORIES:Ciclo cine Mujeres
ATTACH;FMTTYPE=image/webp:https://www.amigosnaugran.org/wp-content/uploads/2025/09/COLEGIO-MAYOR-RECTOR-PESET.webp
END:VEVENT
END:VCALENDAR