BEGIN:VCALENDAR
VERSION:2.0
PRODID:-//Amigos Nau Gran - ECPv6.15.20//NONSGML v1.0//EN
CALSCALE:GREGORIAN
METHOD:PUBLISH
X-ORIGINAL-URL:https://www.amigosnaugran.org
X-WR-CALDESC:Eventos para Amigos Nau Gran
REFRESH-INTERVAL;VALUE=DURATION:PT1H
X-Robots-Tag:noindex
X-PUBLISHED-TTL:PT1H
BEGIN:VTIMEZONE
TZID:Europe/Madrid
BEGIN:DAYLIGHT
TZOFFSETFROM:+0100
TZOFFSETTO:+0200
TZNAME:CEST
DTSTART:20250330T010000
END:DAYLIGHT
BEGIN:STANDARD
TZOFFSETFROM:+0200
TZOFFSETTO:+0100
TZNAME:CET
DTSTART:20251026T010000
END:STANDARD
BEGIN:DAYLIGHT
TZOFFSETFROM:+0100
TZOFFSETTO:+0200
TZNAME:CEST
DTSTART:20260329T010000
END:DAYLIGHT
BEGIN:STANDARD
TZOFFSETFROM:+0200
TZOFFSETTO:+0100
TZNAME:CET
DTSTART:20261025T010000
END:STANDARD
BEGIN:DAYLIGHT
TZOFFSETFROM:+0100
TZOFFSETTO:+0200
TZNAME:CEST
DTSTART:20270328T010000
END:DAYLIGHT
BEGIN:STANDARD
TZOFFSETFROM:+0200
TZOFFSETTO:+0100
TZNAME:CET
DTSTART:20271031T010000
END:STANDARD
END:VTIMEZONE
BEGIN:VEVENT
DTSTART;TZID=Europe/Madrid:20260109T173000
DTEND;TZID=Europe/Madrid:20260109T200000
DTSTAMP:20260424T212048
CREATED:20251216T142850Z
LAST-MODIFIED:20251216T185059Z
UID:22126-1767979800-1767988800@www.amigosnaugran.org
SUMMARY:CICLO DE CINE MUJERES/ CICLE DE CINEMA DONES
DESCRIPTION:Lugar: Salón de Actos del Colegio Mayor Rector Peset. Plaza de San Nicolás s/n \nResponsable: Amparo Romero \nPelícula que se proyecta “LA VIDA SOÑADA DE LOS ÁNGELES” de 1998. Director Érik Zonca. Duración 113 minutos.
URL:https://www.amigosnaugran.org/evento/ciclo-de-cine-mujeres-cicle-de-cinema-dones/
LOCATION:Colegio Mayor Rector Peset\, Plaça del Forn de Sant Nicolau\, 4\, València\, València\, 46001
CATEGORIES:Ciclo cine Mujeres
ATTACH;FMTTYPE=image/webp:https://www.amigosnaugran.org/wp-content/uploads/2025/11/COLEGIO-MAYOR-RECTOR-PESET-VALENCIA.webp
ORGANIZER;CN="Amigos de la Nau Gran":MAILTO:info@amigosnaugran.org
END:VEVENT
END:VCALENDAR