BEGIN:VCALENDAR
VERSION:2.0
PRODID:-//Amigos Nau Gran - ECPv6.15.20//NONSGML v1.0//EN
CALSCALE:GREGORIAN
METHOD:PUBLISH
X-WR-CALNAME:Amigos Nau Gran
X-ORIGINAL-URL:https://www.amigosnaugran.org
X-WR-CALDESC:Eventos para Amigos Nau Gran
REFRESH-INTERVAL;VALUE=DURATION:PT1H
X-Robots-Tag:noindex
X-PUBLISHED-TTL:PT1H
BEGIN:VTIMEZONE
TZID:Europe/Madrid
BEGIN:DAYLIGHT
TZOFFSETFROM:+0100
TZOFFSETTO:+0200
TZNAME:CEST
DTSTART:20250330T010000
END:DAYLIGHT
BEGIN:STANDARD
TZOFFSETFROM:+0200
TZOFFSETTO:+0100
TZNAME:CET
DTSTART:20251026T010000
END:STANDARD
BEGIN:DAYLIGHT
TZOFFSETFROM:+0100
TZOFFSETTO:+0200
TZNAME:CEST
DTSTART:20260329T010000
END:DAYLIGHT
BEGIN:STANDARD
TZOFFSETFROM:+0200
TZOFFSETTO:+0100
TZNAME:CET
DTSTART:20261025T010000
END:STANDARD
BEGIN:DAYLIGHT
TZOFFSETFROM:+0100
TZOFFSETTO:+0200
TZNAME:CEST
DTSTART:20270328T010000
END:DAYLIGHT
BEGIN:STANDARD
TZOFFSETFROM:+0200
TZOFFSETTO:+0100
TZNAME:CET
DTSTART:20271031T010000
END:STANDARD
END:VTIMEZONE
BEGIN:VEVENT
DTSTART;TZID=Europe/Madrid:20260421T080000
DTEND;TZID=Europe/Madrid:20260421T170000
DTSTAMP:20260420T021218
CREATED:20260328T210326Z
LAST-MODIFIED:20260328T213558Z
UID:26246-1776758400-1776790800@www.amigosnaugran.org
SUMMARY:PASSEIG PER LA CIUTAT: EL CASTELL DE XÀTIVA UNA FORTIFICACIÓ INEXPUGNABLE
DESCRIPTION:Guía: Emili Gascó \nLugar: Estación del Norte \nEstar 15 minutos antes
URL:https://www.amigosnaugran.org/evento/passeig-per-la-ciutat-el-castell-de-xativa-una-fortificacio-inexpugnable/
LOCATION:Estacion del Norte\, CALLE XATIVA\, 24\, València\, 46007
CATEGORIES:Paseo por la Ciudad
ATTACH;FMTTYPE=image/webp:https://www.amigosnaugran.org/wp-content/uploads/2025/10/Estacion_del_Norte_Valencia_Espana_2014-06-30_DD_123.webp
ORGANIZER;CN="Amigos de la Nau Gran":MAILTO:info@amigosnaugran.org
END:VEVENT
BEGIN:VEVENT
DTSTART;TZID=Europe/Madrid:20260422T173000
DTEND;TZID=Europe/Madrid:20260422T200000
DTSTAMP:20260420T021218
CREATED:20260328T210749Z
LAST-MODIFIED:20260328T214839Z
UID:26251-1776879000-1776888000@www.amigosnaugran.org
SUMMARY:CICLO DE CINE: LA AMISTAD COMO TEMA DE CINE COMPARADO
DESCRIPTION:Película que se proyecta YO CAPITÁN (2023). Dir. Matteo Garrone. Italia. 121 min \nLugar: Colegio Mayor Rector Peset. Salón de Actos \nResponsable: Vicente León \nEntrada libre hasta completar aforo
URL:https://www.amigosnaugran.org/evento/ciclo-de-cine-la-amistad-como-tema-de-cine-comparado-6/
LOCATION:Colegio Mayor Rector Peset\, Plaça del Forn de Sant Nicolau\, 4\, València\, València\, 46001
CATEGORIES:Cine
ATTACH;FMTTYPE=image/webp:https://www.amigosnaugran.org/wp-content/uploads/2025/11/COLEGIO-MAYOR-RECTOR-PESET-VALENCIA.webp
ORGANIZER;CN="Amigos de la Nau Gran":MAILTO:info@amigosnaugran.org
END:VEVENT
BEGIN:VEVENT
DTSTART;TZID=Europe/Madrid:20260423T080000
DTEND;TZID=Europe/Madrid:20260423T170000
DTSTAMP:20260420T021218
CREATED:20260328T210914Z
LAST-MODIFIED:20260328T214903Z
UID:26255-1776931200-1776963600@www.amigosnaugran.org
SUMMARY:PASSEIG PER LA CIUTAT: EL CASTELL DE XÀTIVA UNA FORTIFICACIÓ INEXPUGNABLE
DESCRIPTION:Guía: Emili Gascó \nLugar: Estación del Norte \nEstar 15 minutos antes
URL:https://www.amigosnaugran.org/evento/passeig-per-la-ciutat-el-castell-de-xativa-una-fortificacio-inexpugnable-2/
LOCATION:Estacion del Norte\, CALLE XATIVA\, 24\, València\, 46007
CATEGORIES:Paseo por la Ciudad
ATTACH;FMTTYPE=image/webp:https://www.amigosnaugran.org/wp-content/uploads/2025/10/Estacion_del_Norte_Valencia_Espana_2014-06-30_DD_123.webp
ORGANIZER;CN="Amigos de la Nau Gran":MAILTO:info@amigosnaugran.org
END:VEVENT
BEGIN:VEVENT
DTSTART;TZID=Europe/Madrid:20260426T083000
DTEND;TZID=Europe/Madrid:20260426T190000
DTSTAMP:20260420T021218
CREATED:20260328T211502Z
LAST-MODIFIED:20260328T213839Z
UID:26261-1777192200-1777230000@www.amigosnaugran.org
SUMMARY:EXCURSIÓN BATALLA DE ALMANSA
DESCRIPTION:Lugar: Puerta principal de la Facultad de Geografía e Historia de Valencia. \nGuía local. \nEstar 15 minutos antes en el punto de salida.
URL:https://www.amigosnaugran.org/evento/excursion-batalla-de-almansa/
LOCATION:Facultad de Geografía e Historia\, Av. de Blasco Ibáñez\, 28\, 46010 València\, València\, 46010\, España
CATEGORIES:Excursión
ATTACH;FMTTYPE=image/webp:https://www.amigosnaugran.org/wp-content/uploads/2025/09/Facultat_de_Geografia-e-Historia-1.webp
ORGANIZER;CN="Amigos de la Nau Gran":MAILTO:info@amigosnaugran.org
END:VEVENT
BEGIN:VEVENT
DTSTART;TZID=Europe/Madrid:20260427T170000
DTEND;TZID=Europe/Madrid:20260427T190000
DTSTAMP:20260420T021218
CREATED:20260328T211626Z
LAST-MODIFIED:20260328T214944Z
UID:26264-1777309200-1777316400@www.amigosnaugran.org
SUMMARY:CICLO DE CINE: EL MUVIM Y LAS PERSONAS MAYORES\, ¿EN QUÉ MUNDO VIVIMOS\, QUÉ MUNDO QUEREMOS?
DESCRIPTION:Película que se proyecta PLAN 75 (2022). Dir. Chie Hayakawa. Japón. 113 min \nLugar: Salón de Actos del MuVIM. \nEntrada libre hasta completar aforo
URL:https://www.amigosnaugran.org/evento/ciclo-de-cine-el-muvim-y-las-personas-mayores-en-que-mundo-vivimos-que-mundo-queremos-3/
LOCATION:MuVIM\, Carrer de Quevedo\, 10\,\, València\, València\, 46001\, España
CATEGORIES:Cine
ATTACH;FMTTYPE=image/jpeg:https://www.amigosnaugran.org/wp-content/uploads/2025/12/MUVIM-VALENCIA.jpg
ORGANIZER;CN="Amigos de la Nau Gran":MAILTO:info@amigosnaugran.org
END:VEVENT
BEGIN:VEVENT
DTSTART;TZID=Europe/Madrid:20260430T090000
DTEND;TZID=Europe/Madrid:20260430T130000
DTSTAMP:20260420T021218
CREATED:20260328T212041Z
LAST-MODIFIED:20260328T215018Z
UID:26271-1777539600-1777554000@www.amigosnaugran.org
SUMMARY:PASSEIG PER L’HORTA NORD: LAS PEDANÍAS\, BORBOTÓ\, BENIFARAIG\, CARPESA Y POBLE NOU
DESCRIPTION:Lugar: Rotonda de San Juan XXIII\, junto al McDonald (bus 26 y 64) – Imagen Google Maps \nGuía: Jorge Oliete
URL:https://www.amigosnaugran.org/evento/passeig-per-lhorta-nord-las-pedanias-borboto-benifaraig-carpesa-y-poble-nou-2/
LOCATION:Privado: Rotonda de San Juan XXIII\, junto al McDonald (bus 26 y 64)\, FJX8+6J València\, España\, Valencia\, Valencia\, 46025\, Spain
CATEGORIES:Paseo por L'Horta Nord
ATTACH;FMTTYPE=image/jpeg:https://www.amigosnaugran.org/wp-content/uploads/2026/02/Rotonda-Juan-XIII.jpg
ORGANIZER;CN="Amigos de la Nau Gran":MAILTO:info@amigosnaugran.org
END:VEVENT
END:VCALENDAR